BEGIN:VCALENDAR
VERSION:2.0
PRODID:-//wp-events-plugin.com//6.4.7//EN
BEGIN:VEVENT
UID:97@mefintax.com.mx
DTSTART;TZID=America/Mexico_City:20230926T180000
DTEND;TZID=America/Mexico_City:20230926T210000
DTSTAMP:20230718T195445Z
URL:https://mefintax.com.mx/events/https-mefintax-com-mx-diplomado-integra
 l-de-impuestos-2023-2024/
SUMMARY:Diplomado Integral de Impuestos (2023 - 2024)
DESCRIPTION:Link al temario del curso: https://mefintax.com.mx/diplomado-i
 ntegral-de-impuestos-2023-2024/
CATEGORIES:Fiscal
LOCATION:https://mefintax.com.mx/diplomado-integral-de-impuestos-2023-2024/
END:VEVENT
BEGIN:VTIMEZONE
TZID:America/Mexico_City
X-LIC-LOCATION:America/Mexico_City
BEGIN:STANDARD
DTSTART:20221030T010000
TZOFFSETFROM:-0500
TZOFFSETTO:-0600
TZNAME:CST
END:STANDARD
END:VTIMEZONE
END:VCALENDAR